BEGIN:VCALENDAR
VERSION:2.0
PRODID:-//MITC Agency Solutions - ECPv6.15.20//NONSGML v1.0//EN
CALSCALE:GREGORIAN
METHOD:PUBLISH
X-ORIGINAL-URL:https://mitcagencies.com
X-WR-CALDESC:Events for MITC Agency Solutions
REFRESH-INTERVAL;VALUE=DURATION:PT1H
X-Robots-Tag:noindex
X-PUBLISHED-TTL:PT1H
BEGIN:VTIMEZONE
TZID:America/New_York
BEGIN:DAYLIGHT
TZOFFSETFROM:-0500
TZOFFSETTO:-0400
TZNAME:EDT
DTSTART:20240310T070000
END:DAYLIGHT
BEGIN:STANDARD
TZOFFSETFROM:-0400
TZOFFSETTO:-0500
TZNAME:EST
DTSTART:20241103T060000
END:STANDARD
BEGIN:DAYLIGHT
TZOFFSETFROM:-0500
TZOFFSETTO:-0400
TZNAME:EDT
DTSTART:20250309T070000
END:DAYLIGHT
BEGIN:STANDARD
TZOFFSETFROM:-0400
TZOFFSETTO:-0500
TZNAME:EST
DTSTART:20251102T060000
END:STANDARD
BEGIN:DAYLIGHT
TZOFFSETFROM:-0500
TZOFFSETTO:-0400
TZNAME:EDT
DTSTART:20260308T070000
END:DAYLIGHT
BEGIN:STANDARD
TZOFFSETFROM:-0400
TZOFFSETTO:-0500
TZNAME:EST
DTSTART:20261101T060000
END:STANDARD
END:VTIMEZONE
BEGIN:VEVENT
DTSTART;TZID=America/New_York:20250313T140000
DTEND;TZID=America/New_York:20250313T150000
DTSTAMP:20260419T083436
CREATED:20250122T172711Z
LAST-MODIFIED:20250122T172711Z
UID:8822-1741874400-1741878000@mitcagencies.com
SUMMARY:Client Profiles: A New\, More Flexible and Affordable Way to Manage EHR
DESCRIPTION:Looking for a modern\, more affordable Electronic Health Records system? Client Profiles is the easier and cheaper way to manage EHR\, and has already proved popular with providers. \nThe latest technology is used to provide unrivaled flexibility to share information but restrict access on a need-to-know basis and generate user-defined alerts. \nJoin us for a webinar on Thursday\, March 13th at 2:00pm ET to learn more about how your agency could benefit from Client Profiles. \nRegister Here
URL:https://mitcagencies.com/event/client-profiles-a-new-more-flexible-and-affordable-way-to-manage-ehr-2/
LOCATION:IN
CATEGORIES:Agency Webinars
END:VEVENT
BEGIN:VEVENT
DTSTART;TZID=America/New_York:20250320T140000
DTEND;TZID=America/New_York:20250320T150000
DTSTAMP:20260419T083436
CREATED:20250122T173321Z
LAST-MODIFIED:20250122T173321Z
UID:8824-1742479200-1742482800@mitcagencies.com
SUMMARY:Capture EVV\, Documentation\, Payroll and Billing in One Step
DESCRIPTION:Having to use multiple software applications to track attendance\, payroll\, EVV\, billing\, and more is not only time consuming\, but can get extremely costly. \nJoin us for a webinar on Thursday\, March 20th at 2pm ET to learn how you can save your agency time and money with just one application in one step! \nRegister Here
URL:https://mitcagencies.com/event/capture-evv-documentation-payroll-and-billing-in-one-step-2/
LOCATION:IN
CATEGORIES:Agency Webinars
END:VEVENT
BEGIN:VEVENT
DTSTART;VALUE=DATE:20250324
DTEND;VALUE=DATE:20250326
DTSTAMP:20260419T083436
CREATED:20250212T171127Z
LAST-MODIFIED:20250212T171127Z
UID:8885-1742774400-1742947199@mitcagencies.com
SUMMARY:NASP Spring Conference 2025
DESCRIPTION:Visit MITC’s booth at the NASP Spring Conference on March 24-25\, 2025 in Lincoln\, NE. Learn how other providers are using MITC Staff and Client Solutions to manage costs\, ensure compliance\, and increase operational-effectiveness. \nDrop by our booth to learn how MITC helps agencies manage HCBS\, group home\, day\, and supported employment programs!
URL:https://mitcagencies.com/event/nasp-spring-conference-2025/
LOCATION:IN
CATEGORIES:Agency Conference,Agency Webinars
END:VEVENT
BEGIN:VEVENT
DTSTART;TZID=America/New_York:20250327T140000
DTEND;TZID=America/New_York:20250327T150000
DTSTAMP:20260419T083436
CREATED:20250122T174103Z
LAST-MODIFIED:20250122T174103Z
UID:8827-1743084000-1743087600@mitcagencies.com
SUMMARY:Documentation for Group and Individual Settings
DESCRIPTION:Most providers struggle to easily capture accurate documentation. Often the reason is that the EHR being used is designed to capture services by individual when many I/DD services are provided to groups of individuals. Using a system that can capture documentation for group and individual settings can help solve documentation capture problems. \nJoin us for a webinar on Thursday\, March 27th at 2pm ET to learn more about capturing documentation for group and individual settings. \nRegister Here
URL:https://mitcagencies.com/event/documentation-for-group-and-individual-settings-2/
LOCATION:IN
CATEGORIES:Agency Webinars
END:VEVENT
BEGIN:VEVENT
DTSTART;TZID=America/New_York:20250403T140000
DTEND;TZID=America/New_York:20250403T150000
DTSTAMP:20260419T083436
CREATED:20250319T145531Z
LAST-MODIFIED:20250319T145531Z
UID:8968-1743688800-1743692400@mitcagencies.com
SUMMARY:Scheduling for Group Homes and HCBS
DESCRIPTION:Effective scheduling has always been important in Group Home programs. Now EVV has made scheduling more relevant in some HCBS programs. \nJoin us for a webinar on Thursday\, April 3rd at 2:00pm ET to learn how to use scheduling to support your employees and managers\, reduce absenteeism\, increase retention and productivity\, and how to use scheduling to minimize overtime and maximize authorization utilization. \nRegister Here
URL:https://mitcagencies.com/event/scheduling-for-group-homes-and-hcbs-3/
LOCATION:IN
CATEGORIES:Agency Webinars
END:VEVENT
BEGIN:VEVENT
DTSTART;VALUE=DATE:20250407
DTEND;VALUE=DATE:20250410
DTSTAMP:20260419T083436
CREATED:20250212T171456Z
LAST-MODIFIED:20250212T171456Z
UID:8887-1743984000-1744243199@mitcagencies.com
SUMMARY:ANCOR Annual Conference 2025
DESCRIPTION:Visit MITC’s booth at the ANCOR Annual Conference on April 7-9\, 2025 in San Diego\, CA. Learn how other providers are using MITC Staff and Client Solutions to manage costs\, ensure compliance\, and increase operational-effectiveness. \nDrop by our booth to learn how MITC helps agencies manage HCBS\, group home\, day\, and supported employment programs!
URL:https://mitcagencies.com/event/ancor-annual-conference-2025/
LOCATION:IN
CATEGORIES:Agency Conference,Agency Webinars
END:VEVENT
BEGIN:VEVENT
DTSTART;TZID=America/New_York:20250410T140000
DTEND;TZID=America/New_York:20250410T150000
DTSTAMP:20260419T083436
CREATED:20250319T145813Z
LAST-MODIFIED:20250319T145813Z
UID:8970-1744293600-1744297200@mitcagencies.com
SUMMARY:New Ways to Ensure Time and Attendance and EVV Compliance
DESCRIPTION:If staff are not clocking-in/out in real time 85% or more of the time\, your time and attendance/EVV system is not as effective as it could be. \nJoin us for a webinar on Thursday\, April 10th at 2pm ET to learn how to ensure your agency has time and attendance and EVV compliance. \nRegister Here
URL:https://mitcagencies.com/event/new-ways-to-ensure-time-and-attendance-and-evv-compliance/
LOCATION:IN
CATEGORIES:Agency Webinars
END:VEVENT
BEGIN:VEVENT
DTSTART;VALUE=DATE:20250416
DTEND;VALUE=DATE:20250419
DTSTAMP:20260419T083436
CREATED:20250312T163254Z
LAST-MODIFIED:20250312T163254Z
UID:8943-1744761600-1745020799@mitcagencies.com
SUMMARY:CCLN 2025 Spring Annual Leadership Conference
DESCRIPTION:Visit MITC’s booth at the CCLN Spring Annual Leadership Conference on April 16-18\, 2025 in San Diego\, CA. Learn how other providers are using MITC Staff and Client Solutions to manage costs\, ensure compliance\, and increase operational-effectiveness. \nDrop by our booth to learn how MITC helps agencies manage HCBS\, group home\, day\, and supported employment programs!
URL:https://mitcagencies.com/event/iacp-annual-conference-2025-2/
LOCATION:IN
CATEGORIES:Agency Conference,Agency Webinars
END:VEVENT
BEGIN:VEVENT
DTSTART;TZID=America/New_York:20250417T140000
DTEND;TZID=America/New_York:20250417T150000
DTSTAMP:20260419T083436
CREATED:20250319T150136Z
LAST-MODIFIED:20250319T150136Z
UID:8972-1744898400-1744902000@mitcagencies.com
SUMMARY:Top Tips to End Documentation Struggles
DESCRIPTION:Many providers struggle to capture documentation in a timely manner. Extra work\, increased audit risk and delayed billing is a common result. It doesn’t have to be this way\, though! \nJoin us on Thursday\, April 17th at 2pm ET to learn about the top tips to ending documentation struggles. \nRegister Here
URL:https://mitcagencies.com/event/top-tips-to-end-documentation-struggles/
LOCATION:IN
CATEGORIES:Agency Webinars
END:VEVENT
BEGIN:VEVENT
DTSTART;VALUE=DATE:20250422
DTEND;VALUE=DATE:20250424
DTSTAMP:20260419T083436
CREATED:20250319T175903Z
LAST-MODIFIED:20250319T175903Z
UID:9001-1745280000-1745452799@mitcagencies.com
SUMMARY:IAHHC 2025 Spring Annual Conference
DESCRIPTION:Visit MITC’s booth at the IAHHC 2025 Spring Annual Conference on April 22 – 23\, 2025 in Plainfield\, IN. Learn how other providers are using MITC Staff and Client Solutions to manage costs\, ensure compliance\, and increase operational-effectiveness. \nDrop by our booth to learn how MITC helps agencies manage HCBS\, group home\, day\, and supported employment programs!
URL:https://mitcagencies.com/event/iacp-annual-conference-2025-4-2-2-2-2/
LOCATION:Embassy Suites Plainfield\, Plainfield\, IN\, United States
CATEGORIES:Agency Conference,Agency Webinars
END:VEVENT
BEGIN:VEVENT
DTSTART;VALUE=DATE:20250422
DTEND;VALUE=DATE:20250425
DTSTAMP:20260419T083436
CREATED:20250312T164730Z
LAST-MODIFIED:20250312T164730Z
UID:8948-1745280000-1745539199@mitcagencies.com
SUMMARY:DDPA 2025 Spring Annual Conference
DESCRIPTION:Visit MITC’s booth at the DDPA Spring Annual Conference on April 22 – 24\, 2025 in Little Rock\, AR. Learn how other providers are using MITC Staff and Client Solutions to manage costs\, ensure compliance\, and increase operational-effectiveness. \nDrop by our booth to learn how MITC helps agencies manage HCBS\, group home\, day\, and supported employment programs!
URL:https://mitcagencies.com/event/iacp-annual-conference-2025-3-2/
LOCATION:Delta Marriott Hotel\, Little Rock\, AR\, United States
CATEGORIES:Agency Conference,Agency Webinars
END:VEVENT
BEGIN:VEVENT
DTSTART;VALUE=DATE:20250422
DTEND;VALUE=DATE:20250426
DTSTAMP:20260419T083436
CREATED:20250312T164010Z
LAST-MODIFIED:20250312T164010Z
UID:8945-1745280000-1745625599@mitcagencies.com
SUMMARY:NY Alliance 2025 Spring Conference
DESCRIPTION:Visit MITC’s booth at the NY Alliance Spring Conference on April 22 – 25\, 2025 in Bolton Landing\, NY. Learn how other providers are using MITC Staff and Client Solutions to manage costs\, ensure compliance\, and increase operational-effectiveness. \nDrop by our booth to learn how MITC helps agencies manage HCBS\, group home\, day\, and supported employment programs!
URL:https://mitcagencies.com/event/iacp-annual-conference-2025-3/
LOCATION:The Sagamore Hotel\, Bolton Landing\, NY\, United States
CATEGORIES:Agency Conference,Agency Webinars
END:VEVENT
BEGIN:VEVENT
DTSTART;TZID=America/New_York:20250424T140000
DTEND;TZID=America/New_York:20250424T170000
DTSTAMP:20260419T083436
CREATED:20250319T150412Z
LAST-MODIFIED:20250319T150412Z
UID:8974-1745503200-1745514000@mitcagencies.com
SUMMARY:Delivering Person-Centered Supports
DESCRIPTION:Person-centered support means supporting individuals to help them live life in the way they want to. It means including individuals in everything\, helping them live an independent life and making sure their human rights are protected. \nJoin John Graham\, MITC CEO\, founder\, and software architect\, for a webinar on Thursday\, April 24th at 2:00pm ET to learn more about the best practices for delivering person centered supports\, and the tools available through MITC that will help your agency along the way. \nRegister Here
URL:https://mitcagencies.com/event/delivering-person-centered-supports/
LOCATION:IN
CATEGORIES:Agency Webinars
END:VEVENT
BEGIN:VEVENT
DTSTART;VALUE=DATE:20250429
DTEND;VALUE=DATE:20250502
DTSTAMP:20260419T083436
CREATED:20250212T172928Z
LAST-MODIFIED:20250212T172928Z
UID:8889-1745884800-1746143999@mitcagencies.com
SUMMARY:IACP Annual Conference 2025
DESCRIPTION:Visit MITC’s booth at the IACP Annual Conference on April 29 – May 1\, 2025 in Coralville\, IA. Learn how other providers are using MITC Staff and Client Solutions to manage costs\, ensure compliance\, and increase operational-effectiveness. \nDrop by our booth to learn how MITC helps agencies manage HCBS\, group home\, day\, and supported employment programs!
URL:https://mitcagencies.com/event/iacp-annual-conference-2025/
LOCATION:IN
CATEGORIES:Agency Conference,Agency Webinars
END:VEVENT
BEGIN:VEVENT
DTSTART;VALUE=DATE:20250430
DTEND;VALUE=DATE:20250503
DTSTAMP:20260419T083436
CREATED:20250319T180328Z
LAST-MODIFIED:20250319T180328Z
UID:9004-1745971200-1746230399@mitcagencies.com
SUMMARY:MAHC 2025 Spring Annual Conference & Home Care Exhibition
DESCRIPTION:Visit MITC’s booth at the MAHC 2025 Spring Annual Conference & Home Care Exhibition on April 30 – May 2\, 2025 in Osage Beach\, MO. Learn how other providers are using MITC Staff and Client Solutions to manage costs\, ensure compliance\, and increase operational-effectiveness. \nDrop by our booth to learn how MITC helps agencies manage HCBS\, group home\, day\, and supported employment programs!
URL:https://mitcagencies.com/event/iacp-annual-conference-2025-4-2-2-2-3/
LOCATION:Margaritaville Lake Resort – Lake of the Ozarks\, Osage Beach\, MO\, United States
CATEGORIES:Agency Conference,Agency Webinars
END:VEVENT
BEGIN:VEVENT
DTSTART;VALUE=DATE:20250501
DTEND;VALUE=DATE:20250502
DTSTAMP:20260419T083436
CREATED:20250319T180607Z
LAST-MODIFIED:20250319T180607Z
UID:9007-1746057600-1746143999@mitcagencies.com
SUMMARY:ADDP 2025 Spring Annual Conference
DESCRIPTION:Visit MITC’s booth at the ADDP 2025 Spring Annual Conference on May 1\, 2025 in Springfield\, MA. Learn how other providers are using MITC Staff and Client Solutions to manage costs\, ensure compliance\, and increase operational-effectiveness. \nDrop by our booth to learn how MITC helps agencies manage HCBS\, group home\, day\, and supported employment programs!
URL:https://mitcagencies.com/event/iacp-annual-conference-2025-4-2-2-2-4/
LOCATION:MGM Hotel Springfield\, Springfield\, United States
CATEGORIES:Agency Conference,Agency Webinars
END:VEVENT
BEGIN:VEVENT
DTSTART;TZID=America/New_York:20250501T140000
DTEND;TZID=America/New_York:20250501T150000
DTSTAMP:20260419T083436
CREATED:20250319T150828Z
LAST-MODIFIED:20250319T150828Z
UID:8976-1746108000-1746111600@mitcagencies.com
SUMMARY:12 HR Metrics Every Agency Needs to Measure
DESCRIPTION:Hiring success is central to delivering services to those who need support and keeping payroll costs and revenue within goals. \nJoin us for a webinar on Thursday\, May 1st at 2pm ET to discuss the key metrics help HR measure each step of the hiring and retention process. \nRegister Here
URL:https://mitcagencies.com/event/12-hr-metrics-every-agency-needs-to-measure/
LOCATION:IN
CATEGORIES:Agency Webinars
END:VEVENT
BEGIN:VEVENT
DTSTART;VALUE=DATE:20250505
DTEND;VALUE=DATE:20250507
DTSTAMP:20260419T083436
CREATED:20250312T165153Z
LAST-MODIFIED:20250312T165153Z
UID:8951-1746403200-1746575999@mitcagencies.com
SUMMARY:PAR 2025 Annual Policy Conference
DESCRIPTION:Visit MITC’s booth at the PAR Annual Policy Conference on May 5 – 6\, 2025 in Harrisburg\, PA. Learn how other providers are using MITC Staff and Client Solutions to manage costs\, ensure compliance\, and increase operational-effectiveness. \nDrop by our booth to learn how MITC helps agencies manage HCBS\, group home\, day\, and supported employment programs!
URL:https://mitcagencies.com/event/iacp-annual-conference-2025-4/
LOCATION:Harrisburg Best Western\, Harrisburg\, PA\, United States
CATEGORIES:Agency Conference,Agency Webinars
END:VEVENT
BEGIN:VEVENT
DTSTART;VALUE=DATE:20250508
DTEND;VALUE=DATE:20250509
DTSTAMP:20260419T083436
CREATED:20250312T165401Z
LAST-MODIFIED:20250312T165401Z
UID:8954-1746662400-1746748799@mitcagencies.com
SUMMARY:FMA 2025 Spring Annual Conference
DESCRIPTION:Visit MITC’s booth at the FMA Spring Annual Conference on May 8\, 2025 in Cooperstown\, NY. Learn how other providers are using MITC Staff and Client Solutions to manage costs\, ensure compliance\, and increase operational-effectiveness. \nDrop by our booth to learn how MITC helps agencies manage HCBS\, group home\, day\, and supported employment programs!
URL:https://mitcagencies.com/event/iacp-annual-conference-2025-4-2/
LOCATION:The Otesaga Hotel\, Cooperstown\, NY\, United States
CATEGORIES:Agency Conference,Agency Webinars
END:VEVENT
BEGIN:VEVENT
DTSTART;VALUE=DATE:20250514
DTEND;VALUE=DATE:20250517
DTSTAMP:20260419T083436
CREATED:20250422T114927Z
LAST-MODIFIED:20250422T114927Z
UID:9056-1747180800-1747439999@mitcagencies.com
SUMMARY:PA HomeCare 2025 Spring Annual Conference
DESCRIPTION:Visit MITC’s booth at the PA HomeCare 2025 Spring Annual Conference on May 14-16\, 2025 in Bethlehem\, PA. Learn how other providers are using MITC Staff and Client Solutions to manage costs\, ensure compliance\, and increase operational-effectiveness. \nDrop by our booth to learn how MITC helps agencies manage HCBS\, group home\, day\, and supported employment programs!
URL:https://mitcagencies.com/event/pa-homecare-2025-spring-annual-conference/
LOCATION:Wind Creek Resort\, Bethlehem\, PA\, United States
CATEGORIES:Agency Conference,Agency Webinars
END:VEVENT
BEGIN:VEVENT
DTSTART;VALUE=DATE:20250519
DTEND;VALUE=DATE:20250522
DTSTAMP:20260419T083436
CREATED:20250312T165535Z
LAST-MODIFIED:20250312T165535Z
UID:8957-1747612800-1747871999@mitcagencies.com
SUMMARY:MOHR 2025 Spring Annual Conference
DESCRIPTION:Visit MITC’s booth at the MOHR Spring Annual Conference on May 19 – 21\, 2025 in Waite Park\, MN. Learn how other providers are using MITC Staff and Client Solutions to manage costs\, ensure compliance\, and increase operational-effectiveness. \nDrop by our booth to learn how MITC helps agencies manage HCBS\, group home\, day\, and supported employment programs!
URL:https://mitcagencies.com/event/iacp-annual-conference-2025-4-2-2/
LOCATION:Park Event Center\, Waite Park\, MN\, United States
CATEGORIES:Agency Conference,Agency Webinars
END:VEVENT
BEGIN:VEVENT
DTSTART;VALUE=DATE:20250528
DTEND;VALUE=DATE:20250530
DTSTAMP:20260419T083436
CREATED:20250422T115210Z
LAST-MODIFIED:20250422T115210Z
UID:9059-1748390400-1748563199@mitcagencies.com
SUMMARY:IAC 2025 Spring Annual Conference
DESCRIPTION:Visit MITC’s booth at the IAC 2025 Spring Annual Conference on May 28-29\, 2025 in New York\, NY. Learn how other providers are using MITC Staff and Client Solutions to manage costs\, ensure compliance\, and increase operational-effectiveness. \nDrop by our booth to learn how MITC helps agencies manage HCBS\, group home\, day\, and supported employment programs!
URL:https://mitcagencies.com/event/iac-2025-spring-annual-conference/
LOCATION:UJA Federation\, New York\, NY\, United States
CATEGORIES:Agency Conference,Agency Webinars
END:VEVENT
BEGIN:VEVENT
DTSTART;VALUE=DATE:20250529
DTEND;VALUE=DATE:20250531
DTSTAMP:20260419T083436
CREATED:20250422T115439Z
LAST-MODIFIED:20250422T115439Z
UID:9062-1748476800-1748649599@mitcagencies.com
SUMMARY:OPRA 2025 Spring Annual Conference
DESCRIPTION:Visit MITC’s booth at the OPRA 2025 Spring Annual Conference on May 29-30\, 2025 in Columbus\, OH. Learn how other providers are using MITC Staff and Client Solutions to manage costs\, ensure compliance\, and increase operational-effectiveness. \nDrop by our booth to learn how MITC helps agencies manage HCBS\, group home\, day\, and supported employment programs!
URL:https://mitcagencies.com/event/opra-2025-spring-annual-conference/
LOCATION:Hilton Columbus at Easton\, Columbus\, OH\, United States
CATEGORIES:Agency Conference,Agency Webinars
END:VEVENT
BEGIN:VEVENT
DTSTART;TZID=America/New_York:20250529T140000
DTEND;TZID=America/New_York:20250529T150000
DTSTAMP:20260419T083436
CREATED:20250415T170936Z
LAST-MODIFIED:20250513T152752Z
UID:9043-1748527200-1748530800@mitcagencies.com
SUMMARY:No Documentation? I'm Sorry. Can't Clock-Out
DESCRIPTION:Most providers struggle to easily capture accurate documentation. Often the reason is that the EHR being used is designed to capture services by individual when many I/DD services are provided to groups of individuals. Using a system that can capture documentation for group and individual settings can help solve documentation capture problems. \nJoin us for a webinar on Thursday\, May 29th at 2pm ET to learn more about capturing documentation for group and individual settings. \nRegister Here
URL:https://mitcagencies.com/event/documentation-for-group-and-individual-settings-3/
LOCATION:IN
CATEGORIES:Agency Webinars
END:VEVENT
BEGIN:VEVENT
DTSTART;TZID=America/New_York:20250605T140000
DTEND;TZID=America/New_York:20250605T150000
DTSTAMP:20260419T083436
CREATED:20250513T152904Z
LAST-MODIFIED:20250513T152918Z
UID:9102-1749132000-1749135600@mitcagencies.com
SUMMARY:Better Job Postings = More Hiring
DESCRIPTION:Clicks aren’t just numbers—they’re decisions. Each click is a person saying\, “This might be for me.” \nBut here’s the catch: if your clicks aren’t converting into applications\, something’s not right. Most likely it’s the job posting. \nJoin John Graham\, MITC CEO\, founder and software architect for a webinar on Thursday\, June 5th at 2pm ET to learn more about how your agency can create better job postings. \nRegister Here
URL:https://mitcagencies.com/event/better-job-postings-more-hiring/
LOCATION:IN
CATEGORIES:Agency Webinars
END:VEVENT
BEGIN:VEVENT
DTSTART;TZID=America/New_York:20250612T140000
DTEND;TZID=America/New_York:20250612T150000
DTSTAMP:20260419T083436
CREATED:20250513T153651Z
LAST-MODIFIED:20250513T153834Z
UID:9104-1749736800-1749740400@mitcagencies.com
SUMMARY:Documentation: 3 Top Tips to End the Struggle
DESCRIPTION:Many providers struggle to capture documentation in a timely manner. Extra work\, increased audit risk and delayed billing is a common result. It doesn’t have to be this way\, though! \nJoin John Graham\, MITC CEO\, founder\, and software architect on Thursday\, June 12th at 2pm ET to learn about the top tips to ending documentation struggles. \nRegister Here
URL:https://mitcagencies.com/event/documentation-3-top-tips-to-end-the-struggle/
LOCATION:IN
CATEGORIES:Agency Webinars
END:VEVENT
BEGIN:VEVENT
DTSTART;TZID=America/New_York:20250619T140000
DTEND;TZID=America/New_York:20250619T150000
DTSTAMP:20260419T083436
CREATED:20250513T153753Z
LAST-MODIFIED:20250513T153753Z
UID:9106-1750341600-1750345200@mitcagencies.com
SUMMARY:Group Home and HCBS: Scheduling for These Programs
DESCRIPTION:Effective scheduling has always been important in Group Home programs. Now EVV has made scheduling more relevant in some HCBS programs. \nJoin us for a webinar on Thursday\, June 19th at 2:00pm ET to learn how to use scheduling to support your employees and managers\, reduce absenteeism\, increase retention and productivity\, and how to use scheduling to minimize overtime and maximize authorization utilization. \nRegister Here
URL:https://mitcagencies.com/event/group-home-and-hcbs-scheduling-for-these-programs/
LOCATION:IN
CATEGORIES:Agency Webinars
END:VEVENT
BEGIN:VEVENT
DTSTART;VALUE=DATE:20250624
DTEND;VALUE=DATE:20250626
DTSTAMP:20260419T083436
CREATED:20250422T115827Z
LAST-MODIFIED:20250422T115827Z
UID:9065-1750723200-1750895999@mitcagencies.com
SUMMARY:ARRM 2025 Spring Annual Conference
DESCRIPTION:Visit MITC’s booth at the ARRM Annual Conference on June 24-25\, 2025 in Rochester\, MN. Learn how other providers are using MITC Staff and Client Solutions to manage costs\, ensure compliance\, and increase operational-effectiveness. \nDrop by our booth to learn how MITC helps agencies manage HCBS\, group home\, day\, and supported employment programs!
URL:https://mitcagencies.com/event/arrm-2025-spring-annual-conference/
LOCATION:Mayo Civic Center\, Rochester\, MN\, United States
CATEGORIES:Agency Conference,Agency Webinars
END:VEVENT
BEGIN:VEVENT
DTSTART;VALUE=DATE:20250625
DTEND;VALUE=DATE:20250627
DTSTAMP:20260419T083436
CREATED:20250312T170753Z
LAST-MODIFIED:20250312T170753Z
UID:8960-1750809600-1750982399@mitcagencies.com
SUMMARY:MACSP 2025 Annual Conference
DESCRIPTION:Visit MITC’s booth at the MACSP Annual Conference on June 25 – 26\, 2025 in Bangor\, ME. Learn how other providers are using MITC Staff and Client Solutions to manage costs\, ensure compliance\, and increase operational-effectiveness. \nDrop by our booth to learn how MITC helps agencies manage HCBS\, group home\, day\, and supported employment programs!
URL:https://mitcagencies.com/event/iacp-annual-conference-2025-4-2-2-2/
LOCATION:Hilton Garden Inn\, Bangor\, Bangor\, ME\, United States
CATEGORIES:Agency Conference,Agency Webinars
END:VEVENT
BEGIN:VEVENT
DTSTART;TZID=America/New_York:20250626T140000
DTEND;TZID=America/New_York:20250626T150000
DTSTAMP:20260419T083436
CREATED:20250513T154012Z
LAST-MODIFIED:20250513T154012Z
UID:9109-1750946400-1750950000@mitcagencies.com
SUMMARY:Capture EVV\, Documentation\, Payroll and Billing in One Step
DESCRIPTION:Having to use multiple software applications to track attendance\, payroll\, EVV\, billing\, and more is not only time consuming\, but can get extremely costly. \nJoin us for a webinar on Thursday\, June 26th at 2pm ET to learn how you can save your agency time and money with just one application in one step! \nRegister Here
URL:https://mitcagencies.com/event/capture-evv-documentation-payroll-and-billing-in-one-step-3/
LOCATION:IN
CATEGORIES:Agency Webinars
END:VEVENT
END:VCALENDAR