BEGIN:VCALENDAR
VERSION:2.0
PRODID:-//MITC Agency Solutions - ECPv6.15.20//NONSGML v1.0//EN
CALSCALE:GREGORIAN
METHOD:PUBLISH
X-ORIGINAL-URL:https://mitcagencies.com
X-WR-CALDESC:Events for MITC Agency Solutions
REFRESH-INTERVAL;VALUE=DURATION:PT1H
X-Robots-Tag:noindex
X-PUBLISHED-TTL:PT1H
BEGIN:VTIMEZONE
TZID:America/New_York
BEGIN:DAYLIGHT
TZOFFSETFROM:-0500
TZOFFSETTO:-0400
TZNAME:EDT
DTSTART:20240310T070000
END:DAYLIGHT
BEGIN:STANDARD
TZOFFSETFROM:-0400
TZOFFSETTO:-0500
TZNAME:EST
DTSTART:20241103T060000
END:STANDARD
BEGIN:DAYLIGHT
TZOFFSETFROM:-0500
TZOFFSETTO:-0400
TZNAME:EDT
DTSTART:20250309T070000
END:DAYLIGHT
BEGIN:STANDARD
TZOFFSETFROM:-0400
TZOFFSETTO:-0500
TZNAME:EST
DTSTART:20251102T060000
END:STANDARD
BEGIN:DAYLIGHT
TZOFFSETFROM:-0500
TZOFFSETTO:-0400
TZNAME:EDT
DTSTART:20260308T070000
END:DAYLIGHT
BEGIN:STANDARD
TZOFFSETFROM:-0400
TZOFFSETTO:-0500
TZNAME:EST
DTSTART:20261101T060000
END:STANDARD
END:VTIMEZONE
BEGIN:VEVENT
DTSTART;TZID=America/New_York:20250123T140000
DTEND;TZID=America/New_York:20250123T150000
DTSTAMP:20260420T151034
CREATED:20250106T155222Z
LAST-MODIFIED:20250106T155222Z
UID:8737-1737640800-1737644400@mitcagencies.com
SUMMARY:Get Documentation Sorted Out in 2025
DESCRIPTION:Start off the new year right by improving how your agency captures documentation. MITC includes three different ways to encourage and enforce the capture of accurate documentation while the service is being provided. \nJoin us for a special training on Thursday\, January 23rd at 2:00pm ET to learn how to ensure documentation is being captured effectively in 2025. \nRegister Here
URL:https://mitcagencies.com/event/get-documentation-sorted-out-in-2025/
LOCATION:PA
CATEGORIES:Agency Webinars
END:VEVENT
BEGIN:VEVENT
DTSTART;TZID=America/New_York:20250128T110000
DTEND;TZID=America/New_York:20250128T113000
DTSTAMP:20260420T151034
CREATED:20250106T213033Z
LAST-MODIFIED:20250106T213033Z
UID:8762-1738062000-1738063800@mitcagencies.com
SUMMARY:Track Key Performance (KPIs) and Trends with Reporting
DESCRIPTION:Join us for a training on Tuesday\, January 28th at 11am ET to learn how other providers use MITC to track key metrics. \nRegister Here \n\nIdentify variances between actual time worked\, budgets\, and scheduled hours\nUse schedule variance reports to spot no shows\, late arrivals and early departures\nTrack authorization utilization\nIdentify overtime hot spots and employees\nTrack attendance edits and frequent attendance offenders\nSpot potential time and attendance fraud\nUse the Executive Usage Trend Reports to keep track of what’s going on\nNEW Report Previewer\n\nWho Should Attend: \n\nExecutives
URL:https://mitcagencies.com/event/track-key-performance-kpis-and-trends-with-reporting/
LOCATION:PA
CATEGORIES:Customer Training Tuesdays & Special Trainings
END:VEVENT
BEGIN:VEVENT
DTSTART;TZID=America/New_York:20250128T140000
DTEND;TZID=America/New_York:20250128T150000
DTSTAMP:20260420T151034
CREATED:20250106T213315Z
LAST-MODIFIED:20250106T213315Z
UID:8764-1738072800-1738076400@mitcagencies.com
SUMMARY:Ensure Staff and Billing Compliance using Schedules
DESCRIPTION:Scheduling is designed for providers with HCBS and Group Home programs. It is loaded with features to meet complex scheduling needs. \nJoin us for a training on Tuesday\, January 28th at 2pm ET to learn how to: \n\nHow to select settings based on your needs\nHow to grant scheduling permissions to different myMITC users\nCreate schedules by employee\, group home\, or client\nPublish schedules to staff calendars\nUse scheduling reports\nEdit\, add\, or delete schedules after publication\nAllow your staff to request extra shifts/visits\nManage call offs\n\nRegister Here \nFind available\, qualified employees and send text/email to selected employees about an open shift. \nWho Should Attend: \n\nSchedulers\nGroup Home\, HCBS\, Day Habilitation Program Directors or Managers
URL:https://mitcagencies.com/event/ensure-staff-and-billing-compliance-using-schedules/
LOCATION:PA
CATEGORIES:Customer Training Tuesdays & Special Trainings
END:VEVENT
BEGIN:VEVENT
DTSTART;TZID=America/New_York:20250130T140000
DTEND;TZID=America/New_York:20250130T150000
DTSTAMP:20260420T151034
CREATED:20250106T160449Z
LAST-MODIFIED:20250106T160449Z
UID:8739-1738245600-1738249200@mitcagencies.com
SUMMARY:EVV Best Practices for 2025
DESCRIPTION:A large number of providers have successfully transitioned to full implementation of EVV and accrued significant benefits based on relatively high percentages of caregiver compliance. \nJoin us for a webinar on Thursday\, January 30th at 2:00pm ET to learn more about the EVV best practices that agencies have successfully implemented. \nRegister Here
URL:https://mitcagencies.com/event/evv-best-practices-for-2025/
LOCATION:PA
CATEGORIES:Agency Webinars
END:VEVENT
BEGIN:VEVENT
DTSTART;TZID=America/New_York:20250204T110000
DTEND;TZID=America/New_York:20250204T113000
DTSTAMP:20260420T151034
CREATED:20250106T213924Z
LAST-MODIFIED:20250106T213924Z
UID:8766-1738666800-1738668600@mitcagencies.com
SUMMARY:Dashboard Training: Reviewing the EVV and Time and Attendance Dashboard
DESCRIPTION:Maintaining EVV and Attendance compliance is important for agencies. Join us for a training on Tuesday\, February 4th at 11am ET to learn to: \n\nSetup the EVV and Time and Attendance Dashboard\nControl tiles that are relevant for your agency\nReview frequent offenders and rejected records\n\nRegister Here \nWho Should Attend: \n\nYour agency’s EVV team\nBilling Team\nTime and Attendance Managers
URL:https://mitcagencies.com/event/dashboard-training-reviewing-the-evv-and-time-and-attendance-dashboard-3/
LOCATION:PA
CATEGORIES:Customer Training Tuesdays & Special Trainings
END:VEVENT
BEGIN:VEVENT
DTSTART;TZID=America/New_York:20250204T140000
DTEND;TZID=America/New_York:20250204T150000
DTSTAMP:20260420T151034
CREATED:20250106T214153Z
LAST-MODIFIED:20250106T214153Z
UID:8768-1738677600-1738681200@mitcagencies.com
SUMMARY:Manage Employees with Ease Using Manager Dashboard
DESCRIPTION:Managers are a core part of every agency. Provide them with the tools needed to help them and in turn help your agency succeed. \nJoin us for a training on Tuesday\, February 4th at 2pm ET to learn about the tools available for managers in myMITC. \nRegister Here \n\nUtilize Manager dashboard\nEmployee Messaging and myMITC Landing Page\nReview time and attendance\nApprove PTO requests\nGenerate manager reports\nSend employees messages\nEnsure EVV compliance\nManager Employee Notes\nAlert Opt-Out\nPassword change requirements\n\nWho Should Attend: \n\nAll Program Directors\nManagers\nExecutives
URL:https://mitcagencies.com/event/manage-employees-with-ease-using-manager-dashboard-2/
LOCATION:PA
CATEGORIES:Customer Training Tuesdays & Special Trainings
END:VEVENT
BEGIN:VEVENT
DTSTART;TZID=America/New_York:20250206T140000
DTEND;TZID=America/New_York:20250206T150000
DTSTAMP:20260420T151034
CREATED:20250106T160651Z
LAST-MODIFIED:20250106T160651Z
UID:8741-1738850400-1738854000@mitcagencies.com
SUMMARY:Check out Client Profiles for EHR
DESCRIPTION:Looking for a modern\, more affordable Electronic Health Records system? Client Profiles is the easier and cheaper way to manage EHR\, and has already proved popular with providers. \nJoin us for a webinar on Thursday\, February 6th at 2:00pm ET to learn more about how your agency could benefit from Client Profiles. \nRegister Here
URL:https://mitcagencies.com/event/check-out-client-profiles-for-ehr/
LOCATION:PA
CATEGORIES:Agency Webinars
END:VEVENT
BEGIN:VEVENT
DTSTART;TZID=America/New_York:20250211T110000
DTEND;TZID=America/New_York:20250211T113000
DTSTAMP:20260420T151034
CREATED:20250106T214321Z
LAST-MODIFIED:20250106T214321Z
UID:8770-1739271600-1739273400@mitcagencies.com
SUMMARY:Streamline Payroll Steps with Payroll Rules Manager
DESCRIPTION:Run payroll efficiently with Payroll Rules Manager! Join us for a training on Tuesday\, February 11th at 11am ET to learn how to: \n\nAdd payroll steps into one form\nCreate multiple Payroll Rules Groups\nRun payroll procedures directly in the Payroll form\n\nRegister Here \nWho Should Attend: \n\nPayroll Managers
URL:https://mitcagencies.com/event/streamline-payroll-steps-with-payroll-rules-manager-2/
LOCATION:PA
CATEGORIES:Customer Training Tuesdays & Special Trainings
END:VEVENT
BEGIN:VEVENT
DTSTART;TZID=America/New_York:20250211T140000
DTEND;TZID=America/New_York:20250211T150000
DTSTAMP:20260420T151034
CREATED:20250106T214458Z
LAST-MODIFIED:20250106T214458Z
UID:8772-1739282400-1739286000@mitcagencies.com
SUMMARY:Avoid Rejections by Keeping Authorizations Managed
DESCRIPTION:Join us for a training on Tuesday\, February 11th at 2pm ET to learn how to: \n\nCapture payroll\, billing and documentation all together\nCreate authorizations and monitor utilization\nTrack Payroll Costs\, Revenue and Profitability by client\nApply pre-billing rules\nSelect which of 30+ reports you need\nBilling Preparation Audit report\n\nRegister Here \nWho Should Attend: \n\nBilling\nHCBS Program Directors
URL:https://mitcagencies.com/event/avoid-rejections-by-keeping-authorizations-managed-2/
LOCATION:PA
CATEGORIES:Customer Training Tuesdays & Special Trainings
END:VEVENT
BEGIN:VEVENT
DTSTART;TZID=America/New_York:20250213T140000
DTEND;TZID=America/New_York:20250213T150000
DTSTAMP:20260420T151034
CREATED:20250106T205330Z
LAST-MODIFIED:20250106T205330Z
UID:8744-1739455200-1739458800@mitcagencies.com
SUMMARY:Managing Community and Facility Based Programs
DESCRIPTION:The day-to-day job of managing community\, day and facility based services has become more complex in recent years as providers are encouraged\, incentivized or mandated to transition to community based services. \nJoin us for a webinar on Thursday\, February 13th at 2:00pm ET to learn about technology other agencies have used successfully to tackle issues in community and facility based programs. \nRegister Here
URL:https://mitcagencies.com/event/managing-community-and-facility-based-programs-2/
LOCATION:PA
CATEGORIES:Agency Webinars
END:VEVENT
BEGIN:VEVENT
DTSTART;TZID=America/New_York:20250218T110000
DTEND;TZID=America/New_York:20250218T113000
DTSTAMP:20260420T151034
CREATED:20250106T214801Z
LAST-MODIFIED:20250106T214801Z
UID:8774-1739876400-1739878200@mitcagencies.com
SUMMARY:HIPAA Compliance: Ensuring your System is Secure
DESCRIPTION:Join us for a training on Tuesday\, February 18th at 11am ET to learn how to: \n\nLogin and use RS2 through the Windows App\nSetup users and manage restrictions and permissions\nEstablish password requirements and system security\nUnlock users who are locked out\n\nRegister Here \nWho Should Attend: \n\nSystem Administrators\nCompliance Officers
URL:https://mitcagencies.com/event/hipaa-compliance-ensuring-your-system-is-secure/
LOCATION:PA
CATEGORIES:Customer Training Tuesdays & Special Trainings
END:VEVENT
BEGIN:VEVENT
DTSTART;TZID=America/New_York:20250218T140000
DTEND;TZID=America/New_York:20250218T150000
DTSTAMP:20260420T151034
CREATED:20250106T214954Z
LAST-MODIFIED:20250106T214954Z
UID:8776-1739887200-1739890800@mitcagencies.com
SUMMARY:Ensure EVV Compliance with Advanced Skills and Tips
DESCRIPTION:This Training Tuesday on Tuesday\, February 18th at 2pm ET is based on the frequently asked billing questions that the MITC EVV team receives on topics like rejections\, resubmission and analyzing reports. \nRegister Here \n\nCheck your data for EVV before submitting\nReview the pre-submission Verification Report\nIdentify and fix common errors\nResubmit data\nUse reconciliation reporting\nEnsure Time and Attendance Compliance with reporting and alerts\n85% rule\n\nEVV submission history database and report \nEVV Dashboard and Rejection Report \nWho Should Attend: \n\nExecutives managing HCBS programs\nYour agency’s billing team
URL:https://mitcagencies.com/event/ensure-evv-compliance-with-advanced-skills-and-tips-2/
LOCATION:PA
CATEGORIES:Customer Training Tuesdays & Special Trainings
END:VEVENT
BEGIN:VEVENT
DTSTART;TZID=America/New_York:20250220T140000
DTEND;TZID=America/New_York:20250220T150000
DTSTAMP:20260420T151034
CREATED:20250106T205659Z
LAST-MODIFIED:20250106T205659Z
UID:8746-1740060000-1740063600@mitcagencies.com
SUMMARY:Managing Overnight Awake Shifts
DESCRIPTION:Managing services with overnight shifts? \nmyCheckIn is used by providers managing group homes and HCBS programs to help ensure employees are awake and/or have not left the location during an overnight shift. \nJoin us for a webinar on Thursday\, February 20th at 2:00pm ET to learn more about myCheckIn and how it has helped agencies manage their overnight awake shifts. \nRegister Here
URL:https://mitcagencies.com/event/managing-overnight-awake-shifts-2/
LOCATION:PA
CATEGORIES:Agency Webinars
END:VEVENT
BEGIN:VEVENT
DTSTART;TZID=America/New_York:20250225T110000
DTEND;TZID=America/New_York:20250225T113000
DTSTAMP:20260420T151034
CREATED:20250106T215124Z
LAST-MODIFIED:20250106T215124Z
UID:8778-1740481200-1740483000@mitcagencies.com
SUMMARY:Maximize Billing Revenue for Group Services
DESCRIPTION:For providers managing day community and facility based programs and group homes. \nJoin us for a training on Tuesday\, February 25th at 11am ET to learn best practices for an effective client attendance program including: \n\nSet-Up options\nSales Types/Service Codes and Authorizations\nCreate Service Groups\nReporting\n\nPre-billing reports and integration \nRegister Here \nWho Should Attend: \n\nAgency billing team\nDay and Supported Employment Program Directors
URL:https://mitcagencies.com/event/maximize-billing-revenue-for-group-services-2/
LOCATION:PA
CATEGORIES:Customer Training Tuesdays & Special Trainings
END:VEVENT
BEGIN:VEVENT
DTSTART;TZID=America/New_York:20250225T140000
DTEND;TZID=America/New_York:20250225T150000
DTSTAMP:20260420T151034
CREATED:20250106T215314Z
LAST-MODIFIED:20250106T215314Z
UID:8780-1740492000-1740495600@mitcagencies.com
SUMMARY:Enhance Your Scheduling: Use Advanced Features
DESCRIPTION:Join us for a training on Tuesday\, February 25th at 2pm ET to learn how to use these powerful scheduling options! \nRegister Here \n\nUse Tasks within a scheduled shift or visit and require staff to check off tasks\nTask Reports for Managers\nRequire employee to confirm their shift\nShow Upcoming Schedules to staff on the clock in/out page\nUsing Google Maps to improve scheduling\nUse variance reporting to track absenteeism\, late arrivals\, early departures\, overlapping shifts and unauthorized attendance\nEnsure staff used the correct service code for billing in HCBS programs\nSet up Schedules for Clients in Day and Group Home programs and use for billing\n\nWho Should Attend: \n\nSchedulers and Managers\nSchedulers wanting to enhance their usage
URL:https://mitcagencies.com/event/enhance-your-scheduling-use-advanced-features/
LOCATION:PA
CATEGORIES:Customer Training Tuesdays & Special Trainings
END:VEVENT
BEGIN:VEVENT
DTSTART;TZID=America/New_York:20250227T140000
DTEND;TZID=America/New_York:20250227T150000
DTSTAMP:20260420T151034
CREATED:20250106T205918Z
LAST-MODIFIED:20250106T205918Z
UID:8748-1740664800-1740668400@mitcagencies.com
SUMMARY:MITC Announces All-New Forms Management System
DESCRIPTION:In Q2 2025\, MITC will release an all-new forms management system for providers to make their forms available to employees\, track the form status and where the form is in the approval process. \nJoin John Graham\, MITC founder\, CEO and Software Architect on Thursday\, February 27th at 2pm ET to learn more about the all new forms management system\, myForms. \nRegister Here
URL:https://mitcagencies.com/event/mitc-announces-all-new-forms-management-system/
LOCATION:PA
CATEGORIES:Agency Webinars
END:VEVENT
BEGIN:VEVENT
DTSTART;TZID=America/New_York:20250304T110000
DTEND;TZID=America/New_York:20250304T113000
DTSTAMP:20260420T151034
CREATED:20250106T220342Z
LAST-MODIFIED:20250106T220342Z
UID:8782-1741086000-1741087800@mitcagencies.com
SUMMARY:Track Utilization with Reporting and Alerts
DESCRIPTION:Are you confident authorizations are not over or underutilized? Join us for a training on Tuesday\, March 4th at 11am ET to learn how your team can bill accurately within the authorization. \nRegister Here \n\nCreate and maintain authorizations using Billing Preparation\nImport Authorizations\nTrack utilization\, budget and schedule variance\nStop employees clocking-in if the authorization is exhausted\nShare utilization reports and graphs with individuals receiving service\nSend utilization updates to individuals\nCheck out the new reports including Consolidated Usage and Authorization reports (added in September)\nAuthorization Audit Tracking!\n\nWho Should Attend: \n\nYour agency’s billing team\nCFO\nHCBS Program Directors
URL:https://mitcagencies.com/event/track-utilization-with-reporting-and-alerts-2/
LOCATION:PA
CATEGORIES:Customer Training Tuesdays & Special Trainings
END:VEVENT
BEGIN:VEVENT
DTSTART;TZID=America/New_York:20250304T140000
DTEND;TZID=America/New_York:20250304T150000
DTSTAMP:20260420T151034
CREATED:20250106T220541Z
LAST-MODIFIED:20250106T220541Z
UID:8784-1741096800-1741100400@mitcagencies.com
SUMMARY:Make Full Use of myMITC with Advanced Features
DESCRIPTION:This training on Tuesday\, March 4th at 2pm ET helps optimize your usage of myMITC. \nRegister Here \nLearn how to: \n\nAssign individual user permissions\nCustomize your myMITC Landing Page\, business operations campaign to assist with setup\nSet up myCalendar options\nUse automated messages\nUpload agency-wide documents through use of Global Documents\nClock in and out messages\n\nWho Should Attend: \n\nAdministrators\nIT Professionals\nExecutives\nHR
URL:https://mitcagencies.com/event/make-full-use-of-mymitc-with-advanced-features-2/
LOCATION:PA
CATEGORIES:Customer Training Tuesdays & Special Trainings
END:VEVENT
BEGIN:VEVENT
DTSTART;TZID=America/New_York:20250306T140000
DTEND;TZID=America/New_York:20250306T150000
DTSTAMP:20260420T151034
CREATED:20250122T171929Z
LAST-MODIFIED:20250122T171929Z
UID:8820-1741269600-1741273200@mitcagencies.com
SUMMARY:3 Tips for a Better Job Posting
DESCRIPTION:There are 3 simple\, proven ways to get more applicants that any agency can use. \nJoin us for a webinar on Thursday\, March 6th at 2pm ET to learn about the top tips for creating a better job posting. \nRegister Here
URL:https://mitcagencies.com/event/3-tips-for-a-better-job-posting/
LOCATION:PA
CATEGORIES:Agency Webinars
END:VEVENT
BEGIN:VEVENT
DTSTART;TZID=America/New_York:20250311T110000
DTEND;TZID=America/New_York:20250311T113000
DTSTAMP:20260420T151034
CREATED:20250106T220952Z
LAST-MODIFIED:20250106T220952Z
UID:8786-1741690800-1741692600@mitcagencies.com
SUMMARY:Day in the Life of an Agency Manager
DESCRIPTION:This training on Tuesday\, March 11th at 11am ET will help you train your employees. \nRegister Here \n\nLog in and navigate the myMITC webpage\nUse Web Clock to clock in and out\, track activities\nRespond to overtime\, next schedule\, authorization\, task and other prompts and restrictions\nCheck their timesheet and request an attendance change\nRequest PTO\nRequest extra shifts\nCommunicate securely with managers and administrators using myCommunications\nCreate your own myMITC U videos!\nShowing your staff how to use MITCH\n\nWho Should Attend: \n\nHR and payroll\nProgram Directors and Managers
URL:https://mitcagencies.com/event/day-in-the-life-of-an-agency-manager-2/
LOCATION:PA
CATEGORIES:Customer Training Tuesdays & Special Trainings
END:VEVENT
BEGIN:VEVENT
DTSTART;TZID=America/New_York:20250311T140000
DTEND;TZID=America/New_York:20250311T150000
DTSTAMP:20260420T151034
CREATED:20250106T221229Z
LAST-MODIFIED:20250106T221229Z
UID:8788-1741701600-1741705200@mitcagencies.com
SUMMARY:Employee Self Scheduling: Allow Staff to Maintain their Own Shifts
DESCRIPTION:Join us for a training on Tuesday\, March 11th at 2pm ET to learn how to setup Self Scheduling for your staff! Put the Scheduling responsibility on them and allow staff to maintain their own shifts. \nRegister Here \n\nConfigure Scheduling settings and permissions for staff\nLearn how to maintain shifts\nManager review of shifts\n\nWho Should Attend: \n\nYour agency’s Scheduling team
URL:https://mitcagencies.com/event/employee-self-scheduling-allow-staff-to-maintain-their-own-shifts/
LOCATION:PA
CATEGORIES:Customer Training Tuesdays & Special Trainings
END:VEVENT
BEGIN:VEVENT
DTSTART;TZID=America/New_York:20250313T140000
DTEND;TZID=America/New_York:20250313T150000
DTSTAMP:20260420T151034
CREATED:20250122T172711Z
LAST-MODIFIED:20250122T172711Z
UID:8822-1741874400-1741878000@mitcagencies.com
SUMMARY:Client Profiles: A New\, More Flexible and Affordable Way to Manage EHR
DESCRIPTION:Looking for a modern\, more affordable Electronic Health Records system? Client Profiles is the easier and cheaper way to manage EHR\, and has already proved popular with providers. \nThe latest technology is used to provide unrivaled flexibility to share information but restrict access on a need-to-know basis and generate user-defined alerts. \nJoin us for a webinar on Thursday\, March 13th at 2:00pm ET to learn more about how your agency could benefit from Client Profiles. \nRegister Here
URL:https://mitcagencies.com/event/client-profiles-a-new-more-flexible-and-affordable-way-to-manage-ehr-2/
LOCATION:PA
CATEGORIES:Agency Webinars
END:VEVENT
BEGIN:VEVENT
DTSTART;TZID=America/New_York:20250318T110000
DTEND;TZID=America/New_York:20250318T113000
DTSTAMP:20260420T151034
CREATED:20250106T221403Z
LAST-MODIFIED:20250106T221403Z
UID:8790-1742295600-1742297400@mitcagencies.com
SUMMARY:MITC for Beginners: Learn how to Setup Your System
DESCRIPTION:Join us for a training on Tuesday\, March 18th at 11am ET to learn how to: \n\nNavigate RS2 modular layout (Main Menus\, Files\, Transactions\, Reporting)\nCreate\, edit\, and terminate employees\nCreate\, edit\, and mark a Job or Client as inactive\nUse system basics\nTake advantage of RS2 User Favorites to highlight frequently used reports and procedures\nTwo Factor Authentication\nMake Payroll easier than ever with Payroll Rules Manager!\n\nRegister Here \nWho Should Attend: \n\nNew administrative users using Time & Attendance\, payroll\, billing\, HR\nAdministrative users who would like a refresher on basics\nProviders expanding their use of MITC
URL:https://mitcagencies.com/event/mitc-for-beginners-learn-how-to-setup-your-system-2/
LOCATION:PA
CATEGORIES:Customer Training Tuesdays & Special Trainings
END:VEVENT
BEGIN:VEVENT
DTSTART;TZID=America/New_York:20250318T140000
DTEND;TZID=America/New_York:20250318T150000
DTSTAMP:20260420T151034
CREATED:20250106T221640Z
LAST-MODIFIED:20250106T221640Z
UID:8792-1742306400-1742310000@mitcagencies.com
SUMMARY:Keeping Your Staff Certified; Ensuring Compliance to Drive Employee Performance
DESCRIPTION:Join us for a training on Tuesday\, March 18th at 2pm ET to learn about: \n\nTrack training and license requirements by title and employee\nAutomatically alert employees\, manager and HR of upcoming expirations\nRetain unlimited training history\nSet up online training classes\nManage employee enrollment\nCancel classes\nOIG\, OMIG\, SAM and Medicheck reporting\n\nRegister Here \nWho Should Attend: \n\nHR\nRelevant Program Directors
URL:https://mitcagencies.com/event/keeping-your-staff-certified-ensuring-compliance-to-drive-employee-performance/
LOCATION:PA
CATEGORIES:Customer Training Tuesdays & Special Trainings
END:VEVENT
BEGIN:VEVENT
DTSTART;TZID=America/New_York:20250320T140000
DTEND;TZID=America/New_York:20250320T150000
DTSTAMP:20260420T151034
CREATED:20250122T173321Z
LAST-MODIFIED:20250122T173321Z
UID:8824-1742479200-1742482800@mitcagencies.com
SUMMARY:Capture EVV\, Documentation\, Payroll and Billing in One Step
DESCRIPTION:Having to use multiple software applications to track attendance\, payroll\, EVV\, billing\, and more is not only time consuming\, but can get extremely costly. \nJoin us for a webinar on Thursday\, March 20th at 2pm ET to learn how you can save your agency time and money with just one application in one step! \nRegister Here
URL:https://mitcagencies.com/event/capture-evv-documentation-payroll-and-billing-in-one-step-2/
LOCATION:PA
CATEGORIES:Agency Webinars
END:VEVENT
BEGIN:VEVENT
DTSTART;VALUE=DATE:20250324
DTEND;VALUE=DATE:20250326
DTSTAMP:20260420T151034
CREATED:20250212T171127Z
LAST-MODIFIED:20250212T171127Z
UID:8885-1742774400-1742947199@mitcagencies.com
SUMMARY:NASP Spring Conference 2025
DESCRIPTION:Visit MITC’s booth at the NASP Spring Conference on March 24-25\, 2025 in Lincoln\, NE. Learn how other providers are using MITC Staff and Client Solutions to manage costs\, ensure compliance\, and increase operational-effectiveness. \nDrop by our booth to learn how MITC helps agencies manage HCBS\, group home\, day\, and supported employment programs!
URL:https://mitcagencies.com/event/nasp-spring-conference-2025/
LOCATION:PA
CATEGORIES:Agency Conference,Agency Webinars
END:VEVENT
BEGIN:VEVENT
DTSTART;TZID=America/New_York:20250325T110000
DTEND;TZID=America/New_York:20250325T120000
DTSTAMP:20260420T151034
CREATED:20250106T221828Z
LAST-MODIFIED:20250106T221828Z
UID:8794-1742900400-1742904000@mitcagencies.com
SUMMARY:Manage EHR and Client Information with Client Profiles
DESCRIPTION:Managing EHR has never been easier with Client Profiles! In this session on Tuesday\, March 25th at 11am ET\, we will review: \n\nHow to create and manage your own Client Profiles Form\nCreating permissions and control what users can see\nReviewing client information and documentation with Staff Action Plan\n\nRegister Here \nWho Should Attend: \n\nClient Services Managers
URL:https://mitcagencies.com/event/manage-ehr-and-client-information-with-client-profiles-2/
LOCATION:PA
CATEGORIES:Customer Training Tuesdays & Special Trainings
END:VEVENT
BEGIN:VEVENT
DTSTART;TZID=America/New_York:20250325T140000
DTEND;TZID=America/New_York:20250325T150000
DTSTAMP:20260420T151034
CREATED:20250106T221955Z
LAST-MODIFIED:20250106T221955Z
UID:8796-1742911200-1742914800@mitcagencies.com
SUMMARY:Capturing Client Attendance and Documentation in Group Settings
DESCRIPTION:For providers managing day community and facility based programs and group homes. \nJoin us for a training on Tuesday\, March 25th at 2pm ET to learn best practices for an effective client attendance and documentation program including: \n\nGroup Documentation Plan Set-Up\nUse data entry screens to capture client attendance\nReporting\nEnsure group documentation is complete\nGroup Documentation Completion Warnings and Restrictions\nIndividualized Prompts and Notes\nGroup Billing audit reports\n\nRegister Here \nWho Should Attend: \n\nAgency billing team\nDay and Supported Employment Program Directors
URL:https://mitcagencies.com/event/capturing-client-attendance-and-documentation-in-group-settings-2/
LOCATION:PA
CATEGORIES:Customer Training Tuesdays & Special Trainings
END:VEVENT
BEGIN:VEVENT
DTSTART;TZID=America/New_York:20250327T140000
DTEND;TZID=America/New_York:20250327T150000
DTSTAMP:20260420T151034
CREATED:20250122T174103Z
LAST-MODIFIED:20250122T174103Z
UID:8827-1743084000-1743087600@mitcagencies.com
SUMMARY:Documentation for Group and Individual Settings
DESCRIPTION:Most providers struggle to easily capture accurate documentation. Often the reason is that the EHR being used is designed to capture services by individual when many I/DD services are provided to groups of individuals. Using a system that can capture documentation for group and individual settings can help solve documentation capture problems. \nJoin us for a webinar on Thursday\, March 27th at 2pm ET to learn more about capturing documentation for group and individual settings. \nRegister Here
URL:https://mitcagencies.com/event/documentation-for-group-and-individual-settings-2/
LOCATION:PA
CATEGORIES:Agency Webinars
END:VEVENT
BEGIN:VEVENT
DTSTART;TZID=America/New_York:20250401T110000
DTEND;TZID=America/New_York:20250401T120000
DTSTAMP:20260420T151034
CREATED:20250319T165549Z
LAST-MODIFIED:20250319T165549Z
UID:8981-1743505200-1743508800@mitcagencies.com
SUMMARY:Manage Employee Time and Attendance – Tips and Tricks
DESCRIPTION:When you have got everyone clocking-in\, this training helps you move to the next level. \nJoin us for a training on Tuesday\, April 1st at 11am ET to learn how to: \n\nAdapt time and attendance to your agency using global and job based options\nEnable GPS Tracking\, Geo-Fencing and Caller-ID to enhance attendance security\nRestrict clock-in using overtime\, schedule\, authorization and block-out dates/times\nUse Usage Reports and Alerts to check your edit percentage\nUse hour budget variance reports to highlight overlapping shifts and unauthorized attendance\nUse 2FA to control buddy punching and fake employees\nUse overtime % by location reports to gain visibility into pockets of excessive overtime\nImprove accuracy by limiting access to job/clients and activities\nPrompt staff with messages and reminders on clock-in/out\n\nRegister Here \nWho Should Attend: \n\nAgencies capturing staff attendance\nManagers\nAll Program Directors\nPayroll
URL:https://mitcagencies.com/event/manage-employee-time-and-attendance-tips-and-tricks-3/
LOCATION:PA
CATEGORIES:Customer Training Tuesdays & Special Trainings
END:VEVENT
END:VCALENDAR